BEGIN:VCALENDAR
VERSION:2.0
PRODID:-//Plone.org//NONSGML plone.app.event//EN
X-WR-TIMEZONE:Europe/Berlin
BEGIN:VEVENT
SUMMARY:Marburger Programm für Mentorinnen und Mentoren - Mentoring in sc
 hulischen Praxisphasen
DTSTART;TZID=Europe/Berlin:20220404T163000
DTEND;TZID=Europe/Berlin:20220404T180000
DTSTAMP:20260424T111822Z
UID:133ccdb96f6d49a3ab294c0183677d72@www.uni-marburg.de
ATTENDEE;CN="Dr. Timo Beckmann (Leuphana Universität Lüneburg)";ROLE=REQ
 -PARTICIPANT:Dr. Timo Beckmann (Leuphana Universität Lüneburg)
CREATED:20220304T065007Z
DESCRIPTION:https://www.uni-marburg.de/de/zfl/aktuelles/termine/marburger-
 programm-fuer-mentorinnen-und-mentoren-mentoring-in-schulischen-praxisphas
 en\n
LAST-MODIFIED:20220304T065309Z
LOCATION:Online (Link wird nach Ablauf der Anmeldefrist zugeschickt)
URL:https://www.uni-marburg.de/de/zfl/aktuelles/termine/marburger-programm
 -fuer-mentorinnen-und-mentoren-mentoring-in-schulischen-praxisphasen
END:VEVENT
BEGIN:VTIMEZONE
TZID:Europe/Berlin
X-LIC-LOCATION:Europe/Berlin
BEGIN:DAYLIGHT
DTSTART:20220327T030000
TZNAME:CEST
TZOFFSETFROM:+0100
TZOFFSETTO:+0200
END:DAYLIGHT
END:VTIMEZONE
END:VCALENDAR
