BEGIN:VCALENDAR
VERSION:2.0
PRODID:-//Plone.org//NONSGML plone.app.event//EN
X-WR-TIMEZONE:Europe/Berlin
BEGIN:VEVENT
SUMMARY:Die fachliche Begegnung von Menschen und Dingen
DTSTART;TZID=Europe/Berlin:20180524T181500
DTEND;TZID=Europe/Berlin:20180524T194500
DTSTAMP:20260421T112353Z
UID:404bd043cc2b4195bcef0e37e361eb73@www.uni-marburg.de
ATTENDEE;CN="Prof. Dr. Arnd-Michael Nohl";ROLE=REQ-PARTICIPANT:Prof. Dr. A
 rnd-Michael Nohl
ATTENDEE;CN="Helmut-Schmidt-Universität – Universität der Bundeswehr H
 amburg";ROLE=REQ-PARTICIPANT:Helmut-Schmidt-Universität – Universität 
 der Bundeswehr Hamburg
CREATED:20180419T142802Z
DESCRIPTION:https://www.uni-marburg.de/de/zfl/aktuelles/termine/materialit
 aet\nZur Materialität in Lern- und Bildungsprozessen
LAST-MODIFIED:20180419T144534Z
LOCATION:Philipps-Universität Marburg\, Wilhelm-Röpke-Str. 6\, Raum +1/H
 01 (Hörsaal H)
URL:https://www.uni-marburg.de/de/zfl/aktuelles/termine/materialitaet
END:VEVENT
BEGIN:VTIMEZONE
TZID:Europe/Berlin
X-LIC-LOCATION:Europe/Berlin
BEGIN:DAYLIGHT
DTSTART:20180325T030000
TZNAME:CEST
TZOFFSETFROM:+0100
TZOFFSETTO:+0200
END:DAYLIGHT
END:VTIMEZONE
END:VCALENDAR
