BEGIN:VCALENDAR
VERSION:2.0
PRODID:-//Plone.org//NONSGML plone.app.event//EN
X-WR-TIMEZONE:Europe/Berlin
BEGIN:VEVENT
SUMMARY:Medientheorie I: Medien- und Kommunikationstheorien
DTSTART;TZID=Europe/Berlin:20171220T160000
DTEND;TZID=Europe/Berlin:20171220T180000
DTSTAMP:20260421T112459Z
UID:71306950fd804432a63f236344a04489@www.uni-marburg.de
ATTENDEE;CN="Dr. Sophie Einwächter";ROLE=REQ-PARTICIPANT:Dr. Sophie Einw
 ächter
CREATED:20171219T173432Z
DESCRIPTION:https://www.uni-marburg.de/de/zfl/aktuelles/termine/medientheo
 rie-i\nRingvorlesung „Medientheorie und Mediengeschichte für zukünftig
 e Lehrkräfte“
LAST-MODIFIED:20171219T174349Z
LOCATION:Philipps-Universität Marburg\, Wilhelm-Röpke-Str. 6\, Hörsaal 
 H
URL:https://www.uni-marburg.de/de/zfl/aktuelles/termine/medientheorie-i
END:VEVENT
BEGIN:VTIMEZONE
TZID:Europe/Berlin
X-LIC-LOCATION:Europe/Berlin
BEGIN:STANDARD
DTSTART:20171029T020000
TZNAME:CET
TZOFFSETFROM:+0200
TZOFFSETTO:+0100
END:STANDARD
END:VTIMEZONE
END:VCALENDAR
