BEGIN:VCALENDAR
VERSION:2.0
PRODID:-//Plone.org//NONSGML plone.app.event//EN
X-WR-TIMEZONE:Europe/Berlin
BEGIN:VEVENT
SUMMARY:Medientheorie II: Medien und Menschen
DTSTART;TZID=Europe/Berlin:20180117T160000
DTEND;TZID=Europe/Berlin:20180117T180000
DTSTAMP:20260421T112455Z
UID:840ef894491a426b91e1014c6efba6f2@www.uni-marburg.de
ATTENDEE;CN="Julia Eckel";ROLE=REQ-PARTICIPANT:Julia Eckel
CREATED:20171219T173432Z
DESCRIPTION:https://www.uni-marburg.de/de/zfl/aktuelles/termine/medientheo
 rie-ii\nRingvorlesung „Medientheorie und Mediengeschichte für zukünfti
 ge Lehrkräfte“
LAST-MODIFIED:20171219T174524Z
LOCATION:Philipps-Universität Marburg\, Wilhelm-Röpke-Str. 6\, Hörsaal 
 H
URL:https://www.uni-marburg.de/de/zfl/aktuelles/termine/medientheorie-ii
END:VEVENT
BEGIN:VTIMEZONE
TZID:Europe/Berlin
X-LIC-LOCATION:Europe/Berlin
BEGIN:STANDARD
DTSTART:20171029T020000
TZNAME:CET
TZOFFSETFROM:+0200
TZOFFSETTO:+0100
END:STANDARD
END:VTIMEZONE
END:VCALENDAR
