BEGIN:VCALENDAR
VERSION:2.0
PRODID:-//Plone.org//NONSGML plone.app.event//EN
X-WR-TIMEZONE:Europe/Berlin
BEGIN:VEVENT
SUMMARY:Medientheorie III: Medientheorie und Populärkultur
DTSTART;TZID=Europe/Berlin:20180124T160000
DTEND;TZID=Europe/Berlin:20180124T180000
DTSTAMP:20260421T114709Z
UID:caa041ea10384d7eae18fd87b0272846@www.uni-marburg.de
ATTENDEE;CN="Prof. Dr. Jens Ruchatz";ROLE=REQ-PARTICIPANT:Prof. Dr. Jens R
 uchatz
CREATED:20171219T173432Z
DESCRIPTION:https://www.uni-marburg.de/de/zfl/aktuelles/termine/medientheo
 rie-iii\nRingvorlesung „Medientheorie und Mediengeschichte für zukünft
 ige Lehrkräfte“
LAST-MODIFIED:20171219T174603Z
LOCATION:Philipps-Universität Marburg\, Wilhelm-Röpke-Str. 6\, Hörsaal 
 H
URL:https://www.uni-marburg.de/de/zfl/aktuelles/termine/medientheorie-iii
END:VEVENT
BEGIN:VTIMEZONE
TZID:Europe/Berlin
X-LIC-LOCATION:Europe/Berlin
BEGIN:STANDARD
DTSTART:20171029T020000
TZNAME:CET
TZOFFSETFROM:+0200
TZOFFSETTO:+0100
END:STANDARD
END:VTIMEZONE
END:VCALENDAR
