BEGIN:VCALENDAR
VERSION:2.0
PRODID:-//Plone.org//NONSGML plone.app.event//EN
X-WR-TIMEZONE:Europe/Berlin
BEGIN:VEVENT
SUMMARY:Medienwirklichkeit II – Gesellschaft und Geschichte in Unterhalt
 ungsangeboten
DTSTART;TZID=Europe/Berlin:20180201T140000
DTEND;TZID=Europe/Berlin:20180201T180000
DTSTAMP:20260419T212045Z
UID:af9bcccb1aea40d88467d79e8beb1a19@www.uni-marburg.de
ATTENDEE;CN="Ann-Marie Letourneur";ROLE=REQ-PARTICIPANT:Ann-Marie Letourne
 ur
CREATED:20170921T161348Z
DESCRIPTION:https://www.uni-marburg.de/de/zfl/aktuelles/termine/medienwirk
 lichkeit-ii-1718\nWorkshop im Rahmen des Portfolios Medienbildungskompeten
 z
LAST-MODIFIED:20180730T114156Z
LOCATION:Philipps-Universität Marburg\, Wilhelm-Röpke-Straße 6A\, Raum 
 08A07
URL:https://www.uni-marburg.de/de/zfl/aktuelles/termine/medienwirklichkeit
 -ii-1718
END:VEVENT
BEGIN:VTIMEZONE
TZID:Europe/Berlin
X-LIC-LOCATION:Europe/Berlin
BEGIN:STANDARD
DTSTART:20171029T020000
TZNAME:CET
TZOFFSETFROM:+0200
TZOFFSETTO:+0100
END:STANDARD
END:VTIMEZONE
END:VCALENDAR
