BEGIN:VCALENDAR
VERSION:2.0
PRODID:-//Plone.org//NONSGML plone.app.event//EN
X-WR-TIMEZONE:Europe/Berlin
BEGIN:VEVENT
SUMMARY:Medienwirklichkeit II – Gesellschaft und Geschichte in Unterhalt
 ungsangeboten (fällt aus)
DTSTART;TZID=Europe/Berlin:20181022T140000
DTEND;TZID=Europe/Berlin:20181022T180000
DTSTAMP:20260421T124032Z
UID:70ec664b1dd24354bde953d5439543a4@www.uni-marburg.de
ATTENDEE;CN="Ann-Marie Letourneur";ROLE=REQ-PARTICIPANT:Ann-Marie Letourne
 ur
CREATED:20170921T161348Z
DESCRIPTION:https://www.uni-marburg.de/de/zfl/aktuelles/termine/medienwirk
 lichkeit-ii-1819\nWie prägt Unterhaltung unsere Realitätswahrnehmung?
LAST-MODIFIED:20181008T132146Z
LOCATION:Philipps-Universität Marburg\, Wilhelm-Röpke-Straße 6A\, Raum 
 08A07
URL:https://www.uni-marburg.de/de/zfl/aktuelles/termine/medienwirklichkeit
 -ii-1819
END:VEVENT
BEGIN:VTIMEZONE
TZID:Europe/Berlin
X-LIC-LOCATION:Europe/Berlin
BEGIN:DAYLIGHT
DTSTART:20180325T030000
TZNAME:CEST
TZOFFSETFROM:+0100
TZOFFSETTO:+0200
END:DAYLIGHT
END:VTIMEZONE
END:VCALENDAR
