BEGIN:VCALENDAR
VERSION:2.0
PRODID:-//Plone.org//NONSGML plone.app.event//EN
X-WR-TIMEZONE:Europe/Berlin
BEGIN:VEVENT
SUMMARY:Mikrofortbildung: Digitale Kollaboration in der Schule
DTSTART;TZID=Europe/Berlin:20210210T170000
DTEND;TZID=Europe/Berlin:20210210T180000
DTSTAMP:20260422T125222Z
UID:388e9fe714984a5c8f358624da8761f5@www.uni-marburg.de
ATTENDEE;CN="Albrecht Metzler";ROLE=REQ-PARTICIPANT:Albrecht Metzler
CREATED:20210119T044533Z
DESCRIPTION:https://www.uni-marburg.de/de/zfl/aktuelles/termine/mikrofortb
 ildung-digitale-kollaboration-in-der-schule\n
LAST-MODIFIED:20210126T124624Z
LOCATION:virtuell
URL:https://www.uni-marburg.de/de/zfl/aktuelles/termine/mikrofortbildung-d
 igitale-kollaboration-in-der-schule
END:VEVENT
BEGIN:VTIMEZONE
TZID:Europe/Berlin
X-LIC-LOCATION:Europe/Berlin
BEGIN:STANDARD
DTSTART:20201025T020000
TZNAME:CET
TZOFFSETFROM:+0200
TZOFFSETTO:+0100
END:STANDARD
END:VTIMEZONE
END:VCALENDAR
