BEGIN:VCALENDAR
VERSION:2.0
PRODID:-//Plone.org//NONSGML plone.app.event//EN
X-WR-TIMEZONE:Europe/Berlin
BEGIN:VEVENT
SUMMARY:Mobbingintervention\, der „No-Blame-Approach“
DTSTART;TZID=Europe/Berlin:20180428T090000
DTEND;TZID=Europe/Berlin:20180428T170000
DTSTAMP:20260420T190712Z
UID:d260ab31928142ed850f65f48cc05cc6@www.uni-marburg.de
ATTENDEE;CN=" Impuls, Institut für konstruktive Konfliktbearbeitung";ROLE
 =REQ-PARTICIPANT: Impuls, Institut für konstruktive Konfliktbearbeitung
CREATED:20180117T143039Z
DESCRIPTION:https://www.uni-marburg.de/de/zfl/aktuelles/termine/mobbingint
 ervention\nPrävention und Intervention bei Mobbing erlernen
LAST-MODIFIED:20180315T134412Z
LOCATION:Philipps-Universität Marburg\, Biegenstraße 14 (Hörsaalgebäud
 e)\, Raum +1/0120
URL:https://www.uni-marburg.de/de/zfl/aktuelles/termine/mobbinginterventio
 n
END:VEVENT
BEGIN:VTIMEZONE
TZID:Europe/Berlin
X-LIC-LOCATION:Europe/Berlin
BEGIN:DAYLIGHT
DTSTART:20180325T030000
TZNAME:CEST
TZOFFSETFROM:+0100
TZOFFSETTO:+0200
END:DAYLIGHT
END:VTIMEZONE
END:VCALENDAR
