BEGIN:VCALENDAR
VERSION:2.0
PRODID:-//Plone.org//NONSGML plone.app.event//EN
X-WR-TIMEZONE:Europe/Berlin
BEGIN:VEVENT
SUMMARY:MS-Office für Lehrkräfte
DTSTART;TZID=Europe/Berlin:20171005T133000
DTEND;TZID=Europe/Berlin:20171005T180000
DTSTAMP:20260422T121606Z
UID:ac579215577d4df0879f32bedd4ff2fe@www.uni-marburg.de
ATTENDEE;CN="Sophia Busch";ROLE=REQ-PARTICIPANT:Sophia Busch
CREATED:20170921T153522Z
DESCRIPTION:https://www.uni-marburg.de/de/zfl/aktuelles/termine/ms-office-
 fuer-lehrkraefte\nOffice als Lehrkraft effektiv nutzen
LAST-MODIFIED:20170921T153522Z
LOCATION:Philipps-Universität Marburg\, Gutenbergstrasse 18\, (Alte Jäge
 rkaserne)\, 02058-(P1)\, PC-Raum
URL:https://www.uni-marburg.de/de/zfl/aktuelles/termine/ms-office-fuer-leh
 rkraefte
END:VEVENT
BEGIN:VTIMEZONE
TZID:Europe/Berlin
X-LIC-LOCATION:Europe/Berlin
BEGIN:DAYLIGHT
DTSTART:20170326T030000
TZNAME:CEST
TZOFFSETFROM:+0100
TZOFFSETTO:+0200
END:DAYLIGHT
END:VTIMEZONE
END:VCALENDAR
