BEGIN:VCALENDAR
VERSION:2.0
PRODID:-//Plone.org//NONSGML plone.app.event//EN
X-WR-TIMEZONE:Europe/Berlin
BEGIN:VEVENT
SUMMARY:Niedrigschwellige Videoproduktion in Schulen
DTSTART;TZID=Europe/Berlin:20181205T140000
DTEND;TZID=Europe/Berlin:20181205T180000
DTSTAMP:20260421T121051Z
UID:157bc07a58d64a208c212301f083886d@www.uni-marburg.de
ATTENDEE;CN="Heinrich Wack";ROLE=REQ-PARTICIPANT:Heinrich Wack
CREATED:20170921T161601Z
DESCRIPTION:https://www.uni-marburg.de/de/zfl/aktuelles/termine/niedrigsch
 wellige-videoproduktion-in-schulen-1819\nEinfach selbst Videos erstellen
LAST-MODIFIED:20181105T105114Z
LOCATION:Philipps-Universität Marburg\, Medienzentrum FB09\, Biegenstraß
 e 36
URL:https://www.uni-marburg.de/de/zfl/aktuelles/termine/niedrigschwellige-
 videoproduktion-in-schulen-1819
END:VEVENT
BEGIN:VTIMEZONE
TZID:Europe/Berlin
X-LIC-LOCATION:Europe/Berlin
BEGIN:STANDARD
DTSTART:20181028T020000
TZNAME:CET
TZOFFSETFROM:+0200
TZOFFSETTO:+0100
END:STANDARD
END:VTIMEZONE
END:VCALENDAR
