BEGIN:VCALENDAR
VERSION:2.0
PRODID:-//Plone.org//NONSGML plone.app.event//EN
X-WR-TIMEZONE:Europe/Berlin
BEGIN:VEVENT
SUMMARY:Podcasts als Aneignungsmedium – Schülerinnen und Schüler podca
 sten
DTSTART;VALUE=DATE:20171215
DTEND;VALUE=DATE:20171217
DTSTAMP:20260421T122954Z
UID:cf9488dd044341a7aff4388d31babe0a@www.uni-marburg.de
ATTENDEE;CN="Toni Linke";ROLE=REQ-PARTICIPANT:Toni Linke
CREATED:20170921T160442Z
DESCRIPTION:https://www.uni-marburg.de/de/zfl/aktuelles/termine/podcasts-a
 ls-aneignungsmedium-schuelerinnen-und-schueler-podcasten\nModul B der Reih
 e „Podcasts | beibringen“ Der didaktisch fundierte Einsatz von Podcast
 s in der Lehre und beim Lernen
LAST-MODIFIED:20170927T170612Z
LOCATION:Philipps-Universität Marburg\, Medienzentrum\, Biegenstraße 36\
 , 1. Stock (Bitte beachten: In der Druckversion des Flyers wurde eine fals
 che Hausnummer angegeben)
URL:https://www.uni-marburg.de/de/zfl/aktuelles/termine/podcasts-als-aneig
 nungsmedium-schuelerinnen-und-schueler-podcasten
END:VEVENT
END:VCALENDAR
