BEGIN:VCALENDAR
VERSION:2.0
PRODID:-//Plone.org//NONSGML plone.app.event//EN
X-WR-TIMEZONE:Europe/Berlin
BEGIN:VEVENT
SUMMARY:Podcasts als Informationsmedium - Lehrerinnen und Lehrer podcasten
DTSTART;VALUE=DATE:20171104
DTEND;VALUE=DATE:20171106
DTSTAMP:20260421T121047Z
UID:e7caaf741e314822aaf4c870b7398984@www.uni-marburg.de
ATTENDEE;CN="Cornelius Filipski";ROLE=REQ-PARTICIPANT:Cornelius Filipski
CREATED:20170921T154835Z
DESCRIPTION:https://www.uni-marburg.de/de/zfl/aktuelles/termine/podcasts-a
 ls-informationsmedium-lehrerinnen-und-lehrer-podcasten\nModul A der Reihe 
 „Podcasts | beibringen“ Der didaktisch fundierte Einsatz von Podcasts 
 in der Lehre und beim Lernen
LAST-MODIFIED:20170927T165747Z
LOCATION:Philipps-Universität Marburg\, Medienzentrum\, Biegenstraße 36\
 , 1. Stock (Bitte beachten: In der Druckversion des Flyers wurde eine fals
 che Hausnummer angegeben)
URL:https://www.uni-marburg.de/de/zfl/aktuelles/termine/podcasts-als-infor
 mationsmedium-lehrerinnen-und-lehrer-podcasten
END:VEVENT
END:VCALENDAR
