BEGIN:VCALENDAR
VERSION:2.0
PRODID:-//Plone.org//NONSGML plone.app.event//EN
X-WR-TIMEZONE:Europe/Berlin
BEGIN:VEVENT
SUMMARY:Konzeption und Planung
DTSTART;TZID=Europe/Berlin:20181030T140000
DTEND;TZID=Europe/Berlin:20181030T180000
DTSTAMP:20260422T074121Z
UID:851df59dcdf041d9837cb1be5db1a4ad@www.uni-marburg.de
ATTENDEE;CN="Cornelius Filipski";ROLE=REQ-PARTICIPANT:Cornelius Filipski
CREATED:20180716T155608Z
DESCRIPTION:https://www.uni-marburg.de/de/zfl/aktuelles/termine/podcasts-k
 onzeption-und-planung\nPodcasts im Unterricht: Blended Learning Angebot
LAST-MODIFIED:20181015T075918Z
LOCATION:Philipps-Universität Marburg\, Medienzentrum\, Biegenstraße 36\
 , erster Stock
URL:https://www.uni-marburg.de/de/zfl/aktuelles/termine/podcasts-konzeptio
 n-und-planung
END:VEVENT
BEGIN:VTIMEZONE
TZID:Europe/Berlin
X-LIC-LOCATION:Europe/Berlin
BEGIN:STANDARD
DTSTART:20181028T020000
TZNAME:CET
TZOFFSETFROM:+0200
TZOFFSETTO:+0100
END:STANDARD
END:VTIMEZONE
END:VCALENDAR
