BEGIN:VCALENDAR
VERSION:2.0
PRODID:-//Plone.org//NONSGML plone.app.event//EN
X-WR-TIMEZONE:Europe/Berlin
BEGIN:VEVENT
SUMMARY:Portfolio Medienbildungskompetenz: Information und Einführung
DTSTART;TZID=Europe/Berlin:20171113T140000
DTEND;TZID=Europe/Berlin:20171113T170000
DTSTAMP:20260421T120158Z
UID:7ebf564902654ebb888fcf8b1bd18b34@www.uni-marburg.de
CREATED:20170918T091835Z
DESCRIPTION:https://www.uni-marburg.de/de/zfl/aktuelles/termine/portfolio-
 medienbildungskompetenz-information-und-einfuehrung\n
LAST-MODIFIED:20171219T175819Z
LOCATION:Philipps-Universität Marburg\, Bahnhofstraße 7\, Raum +1/0240 (
 Großer Hörsaal)
URL:https://www.uni-marburg.de/de/zfl/aktuelles/termine/portfolio-medienbi
 ldungskompetenz-information-und-einfuehrung
END:VEVENT
BEGIN:VTIMEZONE
TZID:Europe/Berlin
X-LIC-LOCATION:Europe/Berlin
BEGIN:STANDARD
DTSTART:20171029T020000
TZNAME:CET
TZOFFSETFROM:+0200
TZOFFSETTO:+0100
END:STANDARD
END:VTIMEZONE
END:VCALENDAR
