BEGIN:VCALENDAR
VERSION:2.0
PRODID:-//Plone.org//NONSGML plone.app.event//EN
X-WR-TIMEZONE:Europe/Berlin
BEGIN:VEVENT
SUMMARY:PraxisStart (Auftakt)
DTSTART;TZID=Europe/Berlin:20210901T160000
DTEND;TZID=Europe/Berlin:20210901T173000
DTSTAMP:20260421T112453Z
UID:58678582f6ed402da93be483288919cc@www.uni-marburg.de
ATTENDEE;CN="Dr. Sven Page";ROLE=REQ-PARTICIPANT:Dr. Sven Page
CREATED:20210525T140845Z
DESCRIPTION:https://www.uni-marburg.de/de/zfl/aktuelles/termine/praxisstar
 t-auftakt\n
LAST-MODIFIED:20210610T092915Z
LOCATION:virtuell
URL:https://www.uni-marburg.de/de/zfl/aktuelles/termine/praxisstart-auftak
 t
END:VEVENT
BEGIN:VTIMEZONE
TZID:Europe/Berlin
X-LIC-LOCATION:Europe/Berlin
BEGIN:DAYLIGHT
DTSTART:20210328T030000
TZNAME:CEST
TZOFFSETFROM:+0100
TZOFFSETTO:+0200
END:DAYLIGHT
END:VTIMEZONE
END:VCALENDAR
