BEGIN:VCALENDAR
VERSION:2.0
PRODID:-//Plone.org//NONSGML plone.app.event//EN
X-WR-TIMEZONE:Europe/Berlin
BEGIN:VEVENT
SUMMARY:Lehrer\, Eltern und Schüler im rechtlichen Konflikt
DTSTART;TZID=Europe/Berlin:20190227T140000
DTEND;TZID=Europe/Berlin:20190227T180000
DTSTAMP:20260421T123428Z
UID:49c8c9c8a5a14a57a23c6aaf47e725f2@www.uni-marburg.de
ATTENDEE;CN="Stephan Klenner";ROLE=REQ-PARTICIPANT:Stephan Klenner
CREATED:20180918T114857Z
DESCRIPTION:https://www.uni-marburg.de/de/zfl/aktuelles/termine/rechtsfrag
 en-2019-02\nRechtsfragen im schulischen Alltag
LAST-MODIFIED:20190131T150624Z
LOCATION:Philipps-Universität Marburg\, Deutschhausstraße 12 (CNMS)\, Ra
 um 00A09
URL:https://www.uni-marburg.de/de/zfl/aktuelles/termine/rechtsfragen-2019-
 02
END:VEVENT
BEGIN:VTIMEZONE
TZID:Europe/Berlin
X-LIC-LOCATION:Europe/Berlin
BEGIN:STANDARD
DTSTART:20181028T020000
TZNAME:CET
TZOFFSETFROM:+0200
TZOFFSETTO:+0100
END:STANDARD
END:VTIMEZONE
END:VCALENDAR
