BEGIN:VCALENDAR
VERSION:2.0
PRODID:-//Plone.org//NONSGML plone.app.event//EN
X-WR-TIMEZONE:Europe/Berlin
BEGIN:VEVENT
SUMMARY:Schulabsentismus - Registrieren\, Verstehen\, Unterstützen ("Tota
 l normal?!" - Psychosoziale Bedingungen von Schüler*innen)
DTSTART;TZID=Europe/Berlin:20210526T143000
DTEND;TZID=Europe/Berlin:20210526T163000
DTSTAMP:20260421T122412Z
UID:7ce7df484b8444728396c89cfc20c690@www.uni-marburg.de
ATTENDEE;CN="Christiane Weppler und Rebecca Henz (Schulpsychologinnen, Sta
 atliches Schulamt Marburg-Biedenkopf)";ROLE=REQ-PARTICIPANT:Christiane Wep
 pler und Rebecca Henz (Schulpsychologinnen, Staatliches Schulamt Marburg-B
 iedenkopf)
CREATED:20210525T112610Z
DESCRIPTION:https://www.uni-marburg.de/de/zfl/aktuelles/termine/schulabsen
 tismus-registrieren-verstehen-unterstuetzen\n
LAST-MODIFIED:20210525T120110Z
LOCATION:virtuell
URL:https://www.uni-marburg.de/de/zfl/aktuelles/termine/schulabsentismus-r
 egistrieren-verstehen-unterstuetzen
END:VEVENT
BEGIN:VTIMEZONE
TZID:Europe/Berlin
X-LIC-LOCATION:Europe/Berlin
BEGIN:DAYLIGHT
DTSTART:20210328T030000
TZNAME:CEST
TZOFFSETFROM:+0100
TZOFFSETTO:+0200
END:DAYLIGHT
END:VTIMEZONE
END:VCALENDAR
