BEGIN:VCALENDAR
VERSION:2.0
PRODID:-//Plone.org//NONSGML plone.app.event//EN
X-WR-TIMEZONE:Europe/Berlin
BEGIN:VEVENT
SUMMARY:Zeitgenössische Medienpraxis reflektieren: Selfies
DTSTART;TZID=Europe/Berlin:20180131T160000
DTEND;TZID=Europe/Berlin:20180131T180000
DTSTAMP:20260422T202008Z
UID:0d6e6734eeb8418e8c6022c3d6cdeb4d@www.uni-marburg.de
ATTENDEE;CN="Sabine Wirth";ROLE=REQ-PARTICIPANT:Sabine Wirth
CREATED:20171219T173432Z
DESCRIPTION:https://www.uni-marburg.de/de/zfl/aktuelles/termine/selfies\nR
 ingvorlesung „Medientheorie und Mediengeschichte für zukünftige Lehrkr
 äfte“
LAST-MODIFIED:20171219T174729Z
LOCATION:Philipps-Universität Marburg\, Wilhelm-Röpke-Str. 6\, Hörsaal 
 H
URL:https://www.uni-marburg.de/de/zfl/aktuelles/termine/selfies
END:VEVENT
BEGIN:VTIMEZONE
TZID:Europe/Berlin
X-LIC-LOCATION:Europe/Berlin
BEGIN:STANDARD
DTSTART:20171029T020000
TZNAME:CET
TZOFFSETFROM:+0200
TZOFFSETTO:+0100
END:STANDARD
END:VTIMEZONE
END:VCALENDAR
