BEGIN:VCALENDAR
VERSION:2.0
PRODID:-//Plone.org//NONSGML plone.app.event//EN
X-WR-TIMEZONE:Europe/Berlin
BEGIN:VEVENT
SUMMARY:Wochenplan Fortbildungen: Einsatzmöglichkeiten des SMART-Boards i
 m Fremdsprachenunterricht
DTSTART;TZID=Europe/Berlin:20220706T143000
DTEND;TZID=Europe/Berlin:20220706T161500
DTSTAMP:20260421T121202Z
UID:ad8362e30f3e45f7bb2a3625f2e0029f@www.uni-marburg.de
ATTENDEE;CN="Carmen Bredol";ROLE=REQ-PARTICIPANT:Carmen Bredol
CREATED:20210224T133935Z
DESCRIPTION:https://www.uni-marburg.de/de/zfl/aktuelles/termine/smart-boar
 ds-im-fremdsprachenunterricht\n
LAST-MODIFIED:20220620T133508Z
LOCATION:virtuell
URL:https://www.uni-marburg.de/de/zfl/aktuelles/termine/smart-boards-im-fr
 emdsprachenunterricht
END:VEVENT
BEGIN:VTIMEZONE
TZID:Europe/Berlin
X-LIC-LOCATION:Europe/Berlin
BEGIN:DAYLIGHT
DTSTART:20220327T030000
TZNAME:CEST
TZOFFSETFROM:+0100
TZOFFSETTO:+0200
END:DAYLIGHT
END:VTIMEZONE
END:VCALENDAR
