BEGIN:VCALENDAR
VERSION:2.0
PRODID:-//Plone.org//NONSGML plone.app.event//EN
X-WR-TIMEZONE:Europe/Berlin
BEGIN:VEVENT
SUMMARY:Spielend Deutsch lernen
DTSTART;TZID=Europe/Berlin:20180420T150000
DTEND;TZID=Europe/Berlin:20180420T180000
DTSTAMP:20260421T123353Z
UID:eee6bac65e194f1fa07ec5792784ed1f@www.uni-marburg.de
ATTENDEE;CN="Prof. Dr. Kathrin Siebold";ROLE=REQ-PARTICIPANT:Prof. Dr. Kat
 hrin Siebold
CREATED:20180413T102944Z
DESCRIPTION:https://www.uni-marburg.de/de/zfl/aktuelles/termine/spielend-d
 eutsch-lernen\nLernWelten 2018: Deutsch als Fremdsprache
LAST-MODIFIED:20180420T131142Z
LOCATION:Philipps-Universität Marburg\, Zentrum für Lehrerbildung\, Buns
 enstraße 2\, Raum 00C03
URL:https://www.uni-marburg.de/de/zfl/aktuelles/termine/spielend-deutsch-l
 ernen
END:VEVENT
BEGIN:VTIMEZONE
TZID:Europe/Berlin
X-LIC-LOCATION:Europe/Berlin
BEGIN:DAYLIGHT
DTSTART:20180325T030000
TZNAME:CEST
TZOFFSETFROM:+0100
TZOFFSETTO:+0200
END:DAYLIGHT
END:VTIMEZONE
END:VCALENDAR
