BEGIN:VCALENDAR
VERSION:2.0
PRODID:-//Plone.org//NONSGML plone.app.event//EN
X-WR-TIMEZONE:Europe/Berlin
BEGIN:VEVENT
SUMMARY:Spielend lernen - mit digitalen Spielen lehren und lernen
DTSTART;TZID=Europe/Berlin:20170921T140000
DTEND;TZID=Europe/Berlin:20170921T180000
DTSTAMP:20260424T151703Z
UID:929da5cf6457463aa353f5ec004cef22@www.uni-marburg.de
ATTENDEE;CN="Ann-Marie Letourneur";ROLE=REQ-PARTICIPANT:Ann-Marie Letourne
 ur
CREATED:20170921T152043Z
DESCRIPTION:https://www.uni-marburg.de/de/zfl/aktuelles/termine/spielend-l
 ernen-mit-digitalen-spielen-lehren-und-lernen\nFortbildung für (angehende
 ) Lehrkräfte des Instituts für Medienwissenschaften
LAST-MODIFIED:20170927T163424Z
LOCATION:Wilhelm-Röpke-Straße 6A\, Raum 08A08
URL:https://www.uni-marburg.de/de/zfl/aktuelles/termine/spielend-lernen-mi
 t-digitalen-spielen-lehren-und-lernen
END:VEVENT
BEGIN:VTIMEZONE
TZID:Europe/Berlin
X-LIC-LOCATION:Europe/Berlin
BEGIN:DAYLIGHT
DTSTART:20170326T030000
TZNAME:CEST
TZOFFSETFROM:+0100
TZOFFSETTO:+0200
END:DAYLIGHT
END:VTIMEZONE
END:VCALENDAR
