BEGIN:VCALENDAR
VERSION:2.0
PRODID:-//Plone.org//NONSGML plone.app.event//EN
X-WR-TIMEZONE:Europe/Berlin
BEGIN:VEVENT
SUMMARY:Sprachliche Bildung Digital
DTSTART;TZID=Europe/Berlin:20230711T150000
DTEND;TZID=Europe/Berlin:20230711T163000
DTSTAMP:20260421T112500Z
UID:6c3de316508d4802ae2b3243ea964bed@www.uni-marburg.de
ATTENDEE;CN="Prof. Dr. Michael Becker-Mrotzek";ROLE=REQ-PARTICIPANT:Prof. 
 Dr. Michael Becker-Mrotzek
CREATED:20230612T113954Z
DESCRIPTION:https://www.uni-marburg.de/de/zfl/aktuelles/termine/sprachlich
 e-bildung-digital\n
LAST-MODIFIED:20230612T114150Z
LOCATION:Digital
URL:https://www.uni-marburg.de/de/zfl/aktuelles/termine/sprachliche-bildun
 g-digital
END:VEVENT
BEGIN:VTIMEZONE
TZID:Europe/Berlin
X-LIC-LOCATION:Europe/Berlin
BEGIN:DAYLIGHT
DTSTART:20230326T030000
TZNAME:CEST
TZOFFSETFROM:+0100
TZOFFSETTO:+0200
END:DAYLIGHT
END:VTIMEZONE
END:VCALENDAR
