BEGIN:VCALENDAR
VERSION:2.0
PRODID:-//Plone.org//NONSGML plone.app.event//EN
X-WR-TIMEZONE:Europe/Berlin
BEGIN:VEVENT
SUMMARY:Alles über die Erste Staatsprüfung
DTSTART;TZID=Europe/Berlin:20181128T141500
DTEND;TZID=Europe/Berlin:20181128T154500
DTSTAMP:20260424T031918Z
UID:60b643f774d84bb5b6d69511380012e7@www.uni-marburg.de
ATTENDEE;CN="Carl Cosack (Hessische Lehrkräfteakademie, Prüfungsstelle M
 arburg), Annette Huppert (ZfL), Sebastian Müller (ZfL)";ROLE=REQ-PARTICIP
 ANT:Carl Cosack (Hessische Lehrkräfteakademie, Prüfungsstelle Marburg), 
 Annette Huppert (ZfL), Sebastian Müller (ZfL)
CREATED:20180122T141353Z
DESCRIPTION:https://www.uni-marburg.de/de/zfl/aktuelles/termine/staatsprue
 fung-2018-11\nInformationsveranstaltung zum Ersten Staatsexamen im Lehramt
LAST-MODIFIED:20181108T112002Z
LOCATION:Philipps-Universität Marburg\, Deutschhausstraße 12\, Raum 00A2
 6
URL:https://www.uni-marburg.de/de/zfl/aktuelles/termine/staatspruefung-201
 8-11
END:VEVENT
BEGIN:VTIMEZONE
TZID:Europe/Berlin
X-LIC-LOCATION:Europe/Berlin
BEGIN:STANDARD
DTSTART:20181028T020000
TZNAME:CET
TZOFFSETFROM:+0200
TZOFFSETTO:+0100
END:STANDARD
END:VTIMEZONE
END:VCALENDAR
