BEGIN:VCALENDAR
VERSION:2.0
PRODID:-//Plone.org//NONSGML plone.app.event//EN
X-WR-TIMEZONE:Europe/Berlin
BEGIN:VEVENT
SUMMARY:Essstörungen und deren Prävention in der Schule – Mainzer Schu
 ltraining zur Essstörungsprävention (MaiStep) ("Total normal?!" - Psycho
 soziale Bedingungen von Schüler:innen)
DTSTART;TZID=Europe/Berlin:20220623T150000
DTEND;TZID=Europe/Berlin:20220623T163000
DTSTAMP:20260421T112349Z
UID:092286901c9a468789b7ef6e20ccd3a9@www.uni-marburg.de
ATTENDEE;CN="Mitarbeiter:in des Maistep-Teams";ROLE=REQ-PARTICIPANT:Mitarb
 eiter:in des Maistep-Teams
CREATED:20220126T101552Z
DESCRIPTION:https://www.uni-marburg.de/de/zfl/aktuelles/termine/total_norm
 al_2022_maistep\nAm 23.06.2022\, von 15:00 Uhr - 16:30 Uhr
LAST-MODIFIED:20220126T194614Z
LOCATION:Online
URL:https://www.uni-marburg.de/de/zfl/aktuelles/termine/total_normal_2022_
 maistep
END:VEVENT
BEGIN:VTIMEZONE
TZID:Europe/Berlin
X-LIC-LOCATION:Europe/Berlin
BEGIN:DAYLIGHT
DTSTART:20220327T030000
TZNAME:CEST
TZOFFSETFROM:+0100
TZOFFSETTO:+0200
END:DAYLIGHT
END:VTIMEZONE
END:VCALENDAR
