BEGIN:VCALENDAR
VERSION:2.0
PRODID:-//Plone.org//NONSGML plone.app.event//EN
X-WR-TIMEZONE:Europe/Berlin
BEGIN:VEVENT
SUMMARY:Unterrichtsstörungen
DTSTART;TZID=Europe/Berlin:20180615T150000
DTEND;TZID=Europe/Berlin:20180615T180000
DTSTAMP:20260422T120703Z
UID:4f26832c1e634abd91f3e6882dadcf1c@www.uni-marburg.de
ATTENDEE;CN="Katharina Rhiel";ROLE=REQ-PARTICIPANT:Katharina Rhiel
CREATED:20180405T100635Z
DESCRIPTION:https://www.uni-marburg.de/de/zfl/aktuelles/termine/unterricht
 sstoerungen\nWie kann ich Unterrichtsstörungen konstruktiv begegnen?
LAST-MODIFIED:20180405T101604Z
LOCATION:Philipps-Universität Marburg\, Bunsenstraße 2\, Raum 00C03 (Kon
 ferenzraum ZfL)
URL:https://www.uni-marburg.de/de/zfl/aktuelles/termine/unterrichtsstoerun
 gen
END:VEVENT
BEGIN:VTIMEZONE
TZID:Europe/Berlin
X-LIC-LOCATION:Europe/Berlin
BEGIN:DAYLIGHT
DTSTART:20180325T030000
TZNAME:CEST
TZOFFSETFROM:+0100
TZOFFSETTO:+0200
END:DAYLIGHT
END:VTIMEZONE
END:VCALENDAR
