BEGIN:VCALENDAR
VERSION:2.0
PRODID:-//Plone.org//NONSGML plone.app.event//EN
X-WR-TIMEZONE:Europe/Berlin
BEGIN:VEVENT
SUMMARY:Vom Kontext zu den Basiskonzepten
DTSTART;TZID=Europe/Berlin:20180914T093000
DTEND;TZID=Europe/Berlin:20180914T163000
DTSTAMP:20260421T120957Z
UID:3ab33411e4a24177acfb36e4fad0a950@www.uni-marburg.de
ATTENDEE;CN="Prof. Dr. Bernhard Neumüller, Frau Elisabeth Rickelt";ROLE=R
 EQ-PARTICIPANT:Prof. Dr. Bernhard Neumüller, Frau Elisabeth Rickelt
CREATED:20180628T125718Z
DESCRIPTION:https://www.uni-marburg.de/de/zfl/aktuelles/termine/vom-kontex
 t-zu-den-basiskonzepten\nChemie des Alltags im Experiment
LAST-MODIFIED:20180717T080710Z
LOCATION:Philipps-Universität Marburg\, Hans-Meerwein-Str. 4
URL:https://www.uni-marburg.de/de/zfl/aktuelles/termine/vom-kontext-zu-den
 -basiskonzepten
END:VEVENT
BEGIN:VTIMEZONE
TZID:Europe/Berlin
X-LIC-LOCATION:Europe/Berlin
BEGIN:DAYLIGHT
DTSTART:20180325T030000
TZNAME:CEST
TZOFFSETFROM:+0100
TZOFFSETTO:+0200
END:DAYLIGHT
END:VTIMEZONE
END:VCALENDAR
