BEGIN:VCALENDAR
VERSION:2.0
PRODID:-//Plone.org//NONSGML plone.app.event//EN
X-WR-TIMEZONE:Europe/Berlin
BEGIN:VEVENT
SUMMARY:Wertevermittlung im Fernsehen – Das Lehr-/Lernpotential ‚bildu
 ngsferner’ Unterhaltungssendungen
DTSTART;TZID=Europe/Berlin:20190213T140000
DTEND;TZID=Europe/Berlin:20190213T180000
DTSTAMP:20260421T122446Z
UID:56ad83268b4c4365a1afa4b6ad6c09f1@www.uni-marburg.de
ATTENDEE;CN="Monika Weiß";ROLE=REQ-PARTICIPANT:Monika Weiß
CREATED:20170921T160703Z
DESCRIPTION:https://www.uni-marburg.de/de/zfl/aktuelles/termine/wertevermi
 ttlung-im-fernsehen-1819\nWelche Werte vermittelt das Fernsehen?
LAST-MODIFIED:20190107T152110Z
LOCATION:Philipps-Universität Marburg\, Wilhelm-Röpke-Straße 6A\, Raum 
 08A07
URL:https://www.uni-marburg.de/de/zfl/aktuelles/termine/wertevermittlung-i
 m-fernsehen-1819
END:VEVENT
BEGIN:VTIMEZONE
TZID:Europe/Berlin
X-LIC-LOCATION:Europe/Berlin
BEGIN:STANDARD
DTSTART:20181028T020000
TZNAME:CET
TZOFFSETFROM:+0200
TZOFFSETTO:+0100
END:STANDARD
END:VTIMEZONE
END:VCALENDAR
