BEGIN:VCALENDAR
VERSION:2.0
PRODID:-//Plone.org//NONSGML plone.app.event//EN
X-WR-TIMEZONE:Europe/Berlin
BEGIN:VEVENT
SUMMARY:Wochenplan: Cyberbullying
DTSTART;TZID=Europe/Berlin:20231101T163000
DTEND;TZID=Europe/Berlin:20231101T180000
DTSTAMP:20260421T123644Z
UID:aef529925eb74bd7a54ad827876e7bdc@www.uni-marburg.de
ATTENDEE;CN="Dr. Jost Stellmacher";ROLE=REQ-PARTICIPANT:Dr. Jost Stellmach
 er
CREATED:20220428T173111Z
DESCRIPTION:https://www.uni-marburg.de/de/zfl/aktuelles/termine/wochenplan
 -cyberbullying\n
LAST-MODIFIED:20230710T141709Z
LOCATION:virtuell
URL:https://www.uni-marburg.de/de/zfl/aktuelles/termine/wochenplan-cyberbu
 llying
END:VEVENT
BEGIN:VTIMEZONE
TZID:Europe/Berlin
X-LIC-LOCATION:Europe/Berlin
BEGIN:STANDARD
DTSTART:20231029T020000
TZNAME:CET
TZOFFSETFROM:+0200
TZOFFSETTO:+0100
END:STANDARD
END:VTIMEZONE
END:VCALENDAR
