BEGIN:VCALENDAR
VERSION:2.0
PRODID:-//Plone.org//NONSGML plone.app.event//EN
X-WR-TIMEZONE:Europe/Berlin
BEGIN:VEVENT
SUMMARY:BNE in der Schule: Ernährungsbildung für Lehrkräfte (28.09.2023
 )
DTSTART;TZID=Europe/Berlin:20230928T090000
DTEND;TZID=Europe/Berlin:20230928T150000
DTSTAMP:20260425T225102Z
UID:9f0a824738d947ab9cb252fa697e4529@www.uni-marburg.de
CREATED:20241120T161830Z
DESCRIPTION:https://www.uni-marburg.de/de/zfl/fort-und-weiterbildung/fortb
 ildungen/aktuelles-ordner-fobi/termine-fortbildungen/bne-in-der-schule-ern
 aehrungsbildung-fuer-lehrkraefte-28-09-2023\n
LAST-MODIFIED:20241120T161917Z
LOCATION:Schweineschlachthof\, Tönnies Holding GmbH & Co. KG\, In der Mar
 k 2\, 33378 Rheda-Wiedenbrück
URL:https://www.uni-marburg.de/de/zfl/fort-und-weiterbildung/fortbildungen
 /aktuelles-ordner-fobi/termine-fortbildungen/bne-in-der-schule-ernaehrungs
 bildung-fuer-lehrkraefte-28-09-2023
END:VEVENT
BEGIN:VTIMEZONE
TZID:Europe/Berlin
X-LIC-LOCATION:Europe/Berlin
BEGIN:DAYLIGHT
DTSTART:20230326T030000
TZNAME:CEST
TZOFFSETFROM:+0100
TZOFFSETTO:+0200
END:DAYLIGHT
END:VTIMEZONE
END:VCALENDAR
