BEGIN:VCALENDAR
VERSION:2.0
PRODID:-//Plone.org//NONSGML plone.app.event//EN
X-WR-TIMEZONE:Europe/Berlin
BEGIN:VEVENT
SUMMARY:Exkursion 2.0: Mobile Games für außerschulische Lernorte (30.10.
 2024\, 15:00 - 16:30)
DTSTART;TZID=Europe/Berlin:20241030T150000
DTEND;TZID=Europe/Berlin:20241030T163000
DTSTAMP:20260426T000244Z
UID:eeb2e3e1f3bd40ca87ced305d4609e1e@www.uni-marburg.de
ATTENDEE;CN="Referent: Dr. Phillip Bengel";ROLE=REQ-PARTICIPANT:Referent: 
 Dr. Phillip Bengel
CREATED:20240827T114544Z
DESCRIPTION:https://www.uni-marburg.de/de/zfl/fort-und-weiterbildung/fortb
 ildungen/aktuelles-ordner-fobi/termine-fortbildungen/exkursion-2-0-mobile-
 games-fuer-ausserschulische-lernorte-30-10-2024-15-00-16-30\n
LAST-MODIFIED:20240827T114550Z
LOCATION:Onlineveranstaltung via BigBlueButton
URL:https://www.uni-marburg.de/de/zfl/fort-und-weiterbildung/fortbildungen
 /aktuelles-ordner-fobi/termine-fortbildungen/exkursion-2-0-mobile-games-fu
 er-ausserschulische-lernorte-30-10-2024-15-00-16-30
END:VEVENT
BEGIN:VTIMEZONE
TZID:Europe/Berlin
X-LIC-LOCATION:Europe/Berlin
BEGIN:STANDARD
DTSTART:20241027T020000
TZNAME:CET
TZOFFSETFROM:+0200
TZOFFSETTO:+0100
END:STANDARD
END:VTIMEZONE
END:VCALENDAR
