BEGIN:VCALENDAR
VERSION:2.0
PRODID:-//Plone.org//NONSGML plone.app.event//EN
X-WR-TIMEZONE:Europe/Berlin
BEGIN:VEVENT
SUMMARY:Historisches Erzählen und KI
DTSTART;TZID=Europe/Berlin:20251119T163000
DTEND;TZID=Europe/Berlin:20251119T180000
DTSTAMP:20260425T185952Z
UID:3af13b0d1b8f4674828255a911c9e798@www.uni-marburg.de
ATTENDEE;CN="Thorsten Neischwander";ROLE=REQ-PARTICIPANT:Thorsten Neischwa
 nder
CATEGORIES:()
CREATED:20251027T101835Z
DESCRIPTION:https://www.uni-marburg.de/de/zfl/fort-und-weiterbildung/fortb
 ildungen/aktuelles-ordner-fobi/termine-fortbildungen/historisches-erzaehle
 n-und-ki\n
LAST-MODIFIED:20251027T102246Z
LOCATION:online via BigBlueButton
URL:https://www.uni-marburg.de/de/zfl/fort-und-weiterbildung/fortbildungen
 /aktuelles-ordner-fobi/termine-fortbildungen/historisches-erzaehlen-und-ki
END:VEVENT
BEGIN:VTIMEZONE
TZID:Europe/Berlin
X-LIC-LOCATION:Europe/Berlin
BEGIN:STANDARD
DTSTART:20251026T020000
TZNAME:CET
TZOFFSETFROM:+0200
TZOFFSETTO:+0100
END:STANDARD
END:VTIMEZONE
END:VCALENDAR
