BEGIN:VCALENDAR
VERSION:2.0
PRODID:-//Plone.org//NONSGML plone.app.event//EN
X-WR-TIMEZONE:Europe/Berlin
BEGIN:VEVENT
SUMMARY:Smartboard Einführungskurs (08.10.2024\, 14:30 - 16:00)
DTSTART;TZID=Europe/Berlin:20241008T143000
DTEND;TZID=Europe/Berlin:20241008T160000
DTSTAMP:20260426T022050Z
UID:bd5aae1939be452ebd52ea342351c003@www.uni-marburg.de
ATTENDEE;CN="Referent: Dr. Philipp Reiß";ROLE=REQ-PARTICIPANT:Referent: D
 r. Philipp Reiß
CREATED:20240827T110811Z
DESCRIPTION:https://www.uni-marburg.de/de/zfl/fort-und-weiterbildung/fortb
 ildungen/aktuelles-ordner-fobi/termine-fortbildungen/smartboard-einfuehrun
 gskurs-08-10-2024-14-30-16-00\n
LAST-MODIFIED:20240827T113903Z
LOCATION:Onlineveranstaltung via BigBlueButton
URL:https://www.uni-marburg.de/de/zfl/fort-und-weiterbildung/fortbildungen
 /aktuelles-ordner-fobi/termine-fortbildungen/smartboard-einfuehrungskurs-0
 8-10-2024-14-30-16-00
END:VEVENT
BEGIN:VTIMEZONE
TZID:Europe/Berlin
X-LIC-LOCATION:Europe/Berlin
BEGIN:DAYLIGHT
DTSTART:20240331T030000
TZNAME:CEST
TZOFFSETFROM:+0100
TZOFFSETTO:+0200
END:DAYLIGHT
END:VTIMEZONE
END:VCALENDAR
