BEGIN:VCALENDAR
VERSION:2.0
PRODID:-//Plone.org//NONSGML plone.app.event//EN
X-WR-TIMEZONE:Europe/Berlin
BEGIN:VEVENT
SUMMARY:What you always wanted to know about prompt writing (and teaching)
DTSTART;TZID=Europe/Berlin:20250701T153000
DTEND;TZID=Europe/Berlin:20250701T170000
DTSTAMP:20260426T052257Z
UID:684a780594bb494aa03ad6a5de6a62b6@www.uni-marburg.de
ATTENDEE;CN="Dr. Fabienne Quennet";ROLE=REQ-PARTICIPANT:Dr. Fabienne Quenn
 et
CREATED:20250430T093842Z
DESCRIPTION:https://www.uni-marburg.de/de/zfl/fort-und-weiterbildung/fortb
 ildungen/aktuelles-ordner-fobi/termine-fortbildungen/what-you-always-wante
 d-to-know-about-prompt-writing-and-teaching\n
LAST-MODIFIED:20250523T062054Z
LOCATION:online via BigBlueButton
URL:https://www.uni-marburg.de/de/zfl/fort-und-weiterbildung/fortbildungen
 /aktuelles-ordner-fobi/termine-fortbildungen/what-you-always-wanted-to-kno
 w-about-prompt-writing-and-teaching
END:VEVENT
BEGIN:VTIMEZONE
TZID:Europe/Berlin
X-LIC-LOCATION:Europe/Berlin
BEGIN:DAYLIGHT
DTSTART:20250330T030000
TZNAME:CEST
TZOFFSETFROM:+0100
TZOFFSETTO:+0200
END:DAYLIGHT
END:VTIMEZONE
END:VCALENDAR
