BEGIN:VCALENDAR
VERSION:2.0
PRODID:-//Plone.org//NONSGML plone.app.event//EN
X-WR-TIMEZONE:Europe/Berlin
BEGIN:VEVENT
SUMMARY:Inklusionsworkshop mit dem Projekt "EinFach Vielfalt"
DTSTART;TZID=Europe/Berlin:20241101T140000
DTEND;TZID=Europe/Berlin:20241101T153000
DTSTAMP:20260425T225952Z
UID:8f2fac26c3164005b4ca6cfbdb6576e6@www.uni-marburg.de
ATTENDEE;CN="Fabiana Kühl & Svenja Kluth";ROLE=REQ-PARTICIPANT:Fabiana K
 ühl & Svenja Kluth
CREATED:20241002T064151Z
DESCRIPTION:https://www.uni-marburg.de/de/zfl/projekte/gymnasiale-lehrerbi
 ldung-in-marburg-innovativ-inklusiv/aktuelles/termine/inklusionsworkshop-m
 it-dem-projekt-einfach-vielfalt\n
LAST-MODIFIED:20241002T083516Z
LOCATION:Ort wird nach der Anmeldung bekannt gegeben
URL:https://www.uni-marburg.de/de/zfl/projekte/gymnasiale-lehrerbildung-in
 -marburg-innovativ-inklusiv/aktuelles/termine/inklusionsworkshop-mit-dem-p
 rojekt-einfach-vielfalt
END:VEVENT
BEGIN:VTIMEZONE
TZID:Europe/Berlin
X-LIC-LOCATION:Europe/Berlin
BEGIN:STANDARD
DTSTART:20241027T020000
TZNAME:CET
TZOFFSETFROM:+0200
TZOFFSETTO:+0100
END:STANDARD
END:VTIMEZONE
END:VCALENDAR
