BEGIN:VCALENDAR
VERSION:2.0
PRODID:-//Plone.org//NONSGML plone.app.event//EN
X-WR-TIMEZONE:Europe/Berlin
BEGIN:VEVENT
SUMMARY:Schulbesuch an der Elisabethschule Marburg
DTSTART;TZID=Europe/Berlin:20260513T090000
DTEND;TZID=Europe/Berlin:20260513T110000
DTSTAMP:20260425T143650Z
UID:63203b91185748c5b6a4b53d2fb293c0@www.uni-marburg.de
CATEGORIES:()
CREATED:20260402T173412Z
DESCRIPTION:https://www.uni-marburg.de/de/zfl/projekte/lima/aktuelles/term
 ine/13-mai-2026-09-00-uhr-schulbesuch-an-der-elisabethschule-marburg\nMöc
 hten Sie praxisnahe Einblicke in Schule und Unterricht gewinnen und neue K
 ontakte knüpfen? Am Mittwoch\, 13. Mai 2026\, ab 09:00 Uhr\, laden wir M
 arburger Lehramtsstudierende und internationale Studierende zu einem gemei
 nsamen Schulbesuch an der Elisabethschule Marburg ein.
LAST-MODIFIED:20260422T133634Z
LOCATION:Elisabethschule Marburg
URL:https://www.uni-marburg.de/de/zfl/projekte/lima/aktuelles/termine/13-m
 ai-2026-09-00-uhr-schulbesuch-an-der-elisabethschule-marburg
END:VEVENT
BEGIN:VTIMEZONE
TZID:Europe/Berlin
X-LIC-LOCATION:Europe/Berlin
BEGIN:DAYLIGHT
DTSTART:20260329T030000
TZNAME:CEST
TZOFFSETFROM:+0100
TZOFFSETTO:+0200
END:DAYLIGHT
END:VTIMEZONE
END:VCALENDAR
