BEGIN:VCALENDAR
VERSION:2.0
PRODID:-//Plone.org//NONSGML plone.app.event//EN
X-WR-TIMEZONE:Europe/Berlin
BEGIN:VEVENT
SUMMARY:Bis 18. Mai bewerben! Exkursion mit Schulbesuchen nach Pilsen\, Ts
 chechische Republik (05.-09. Oktober 2026)
DTSTART;TZID=Europe/Berlin:20260518T200000
DTSTAMP:20260425T172605Z
UID:193e3f273af44f119d75d99307030e74@www.uni-marburg.de
CREATED:20260422T135544Z
DESCRIPTION:https://www.uni-marburg.de/de/zfl/projekte/lima/aktuelles/term
 ine/bis-18-mai-bewerben-exkursion-mit-schulbesuchen-nach-pilsen-tschechisc
 he-republik-05-09-oktober-2026\nSie studieren Lehramt und haben Interesse 
 an Einblicken in ein anderes Schulsystem? Dann nutzen Sie die Chance und b
 ewerben Sie sich für die erste Exkursion des Projekts LiMa\, offen für a
 lle Lehramtsstudierenden!
LAST-MODIFIED:20260422T135601Z
LOCATION:Bewerbung über ILIAS
URL:https://www.uni-marburg.de/de/zfl/projekte/lima/aktuelles/termine/bis-
 18-mai-bewerben-exkursion-mit-schulbesuchen-nach-pilsen-tschechische-repub
 lik-05-09-oktober-2026
END:VEVENT
BEGIN:VTIMEZONE
TZID:Europe/Berlin
X-LIC-LOCATION:Europe/Berlin
BEGIN:DAYLIGHT
DTSTART:20260329T030000
TZNAME:CEST
TZOFFSETFROM:+0100
TZOFFSETTO:+0200
END:DAYLIGHT
END:VTIMEZONE
END:VCALENDAR
