BEGIN:VCALENDAR
VERSION:2.0
PRODID:-//Plone.org//NONSGML plone.app.event//EN
X-WR-TIMEZONE:Europe/Berlin
BEGIN:VEVENT
SUMMARY:Reflecting on Future Skills for a Multiple Crises Society - Libera
 tion in Dystopia? (Prof. Dr. Robert Pfützner\, HSAP Berlin) - Future Skil
 ls Forum 2026
DTSTART;TZID=Europe/Berlin:20260630T160000
DTEND;TZID=Europe/Berlin:20260630T173000
DTSTAMP:20260424T162001Z
UID:7f049e178e5645f69f7f91cf5bc882ce@www.uni-marburg.de
ATTENDEE;CN="Prof. Dr. Robert Pfützner, HSAP Berlin";ROLE=REQ-PARTICIPANT
 :Prof. Dr. Robert Pfützner, HSAP Berlin
CATEGORIES:()
CREATED:20260421T122744Z
DESCRIPTION:https://www.uni-marburg.de/de/zfl/projekte/lima/aktuelles/term
 ine/future-skills-forum-2026-reflecting-on-future-skills-for-a-multiple-cr
 ises-society-liberation-in-dystopia\n
LAST-MODIFIED:20260422T135706Z
LOCATION:Online
URL:https://www.uni-marburg.de/de/zfl/projekte/lima/aktuelles/termine/futu
 re-skills-forum-2026-reflecting-on-future-skills-for-a-multiple-crises-soc
 iety-liberation-in-dystopia
END:VEVENT
BEGIN:VTIMEZONE
TZID:Europe/Berlin
X-LIC-LOCATION:Europe/Berlin
BEGIN:DAYLIGHT
DTSTART:20260329T030000
TZNAME:CEST
TZOFFSETFROM:+0100
TZOFFSETTO:+0200
END:DAYLIGHT
END:VTIMEZONE
END:VCALENDAR
