BEGIN:VCALENDAR
VERSION:2.0
PRODID:-//Plone.org//NONSGML plone.app.event//EN
X-WR-TIMEZONE:Europe/Berlin
BEGIN:VEVENT
SUMMARY:Sprachkurs "Studying Abroad in English"
DTSTART;TZID=Europe/Berlin:20240615T090000
DTEND;TZID=Europe/Berlin:20240615T130000
DTSTAMP:20260421T122529Z
UID:2268d0e2f3d4402dbd2c2b8a99e245af@www.uni-marburg.de
ATTENDEE;CN="Hussein Badat";ROLE=REQ-PARTICIPANT:Hussein Badat
CREATED:20240430T122918Z
DESCRIPTION:https://www.uni-marburg.de/de/zfl/projekte/lima/aktuelles/term
 ine/sprachkurs-studying-abroad-in-english\n
LAST-MODIFIED:20240430T123059Z
LOCATION:Bekanntgabe nach Anmeldung
URL:https://www.uni-marburg.de/de/zfl/projekte/lima/aktuelles/termine/spra
 chkurs-studying-abroad-in-english
END:VEVENT
BEGIN:VTIMEZONE
TZID:Europe/Berlin
X-LIC-LOCATION:Europe/Berlin
BEGIN:DAYLIGHT
DTSTART:20240331T030000
TZNAME:CEST
TZOFFSETFROM:+0100
TZOFFSETTO:+0200
END:DAYLIGHT
END:VTIMEZONE
END:VCALENDAR
