BEGIN:VCALENDAR
VERSION:2.0
PRODID:-//Plone.org//NONSGML plone.app.event//EN
X-WR-TIMEZONE:Europe/Berlin
BEGIN:VEVENT
SUMMARY:Your Lens\, My Lens: Understanding Misunderstanding (Dr. Annika Br
 ück-Hübner\, JLU Gießen)
DTSTART;TZID=Europe/Berlin:20260513T140000
DTEND;TZID=Europe/Berlin:20260513T160000
DTSTAMP:20260425T014231Z
UID:c9804f70444d4805937f23bea838bf6b@www.uni-marburg.de
ATTENDEE;CN="Dr. Annika Brück-Hübner, JLU Gießen";ROLE=REQ-PARTICIPANT:
 Dr. Annika Brück-Hübner, JLU Gießen
CATEGORIES:()
CREATED:20260422T125824Z
DESCRIPTION:https://www.uni-marburg.de/de/zfl/projekte/lima/aktuelles/term
 ine/your-lens-my-lens-understanding-misunderstanding-dr-annika-brueck-hueb
 ner-jlu-giessen\n
LAST-MODIFIED:20260422T134158Z
LOCATION:Online
URL:https://www.uni-marburg.de/de/zfl/projekte/lima/aktuelles/termine/your
 -lens-my-lens-understanding-misunderstanding-dr-annika-brueck-huebner-jlu-
 giessen
END:VEVENT
BEGIN:VTIMEZONE
TZID:Europe/Berlin
X-LIC-LOCATION:Europe/Berlin
BEGIN:DAYLIGHT
DTSTART:20260329T030000
TZNAME:CEST
TZOFFSETFROM:+0100
TZOFFSETTO:+0200
END:DAYLIGHT
END:VTIMEZONE
END:VCALENDAR
