BEGIN:VCALENDAR
VERSION:2.0
PRODID:-//Plone.org//NONSGML plone.app.event//EN
X-WR-TIMEZONE:Europe/Berlin
BEGIN:VEVENT
SUMMARY:Religionspolitische Instrumente der Regulierung religiöser Plural
 ität in der islamischen Kultur Indonesiens
DTSTART;TZID=Europe/Berlin:20220706T201500
DTEND;TZID=Europe/Berlin:20220706T214500
DTSTAMP:20260426T011203Z
UID:0276589c17f8454c95d56222cbe38f4a@www.uni-marburg.de
ATTENDEE;CN="Prof. Dr. Edith Franke";ROLE=REQ-PARTICIPANT:Prof. Dr. Edith 
 Franke
CREATED:20220310T095333Z
DESCRIPTION:https://www.uni-marburg.de/de/zir/aktuelles/termine-zir/religi
 onspolitische-instrumente-der-regulierung-religioeser-pluralitaet-in-der-i
 slamischen-kultur-indonesiens\nStudium Generale: Religion und Politik
LAST-MODIFIED:20220322T130536Z
LOCATION:Vortragsraum der Universitätsbibliothek\, Deutschhausstr. 9\, 35
 037 Marburg
URL:https://www.uni-marburg.de/de/zir/aktuelles/termine-zir/religionspolit
 ische-instrumente-der-regulierung-religioeser-pluralitaet-in-der-islamisch
 en-kultur-indonesiens
END:VEVENT
BEGIN:VTIMEZONE
TZID:Europe/Berlin
X-LIC-LOCATION:Europe/Berlin
BEGIN:DAYLIGHT
DTSTART:20220327T030000
TZNAME:CEST
TZOFFSETFROM:+0100
TZOFFSETTO:+0200
END:DAYLIGHT
END:VTIMEZONE
END:VCALENDAR
