BEGIN:VCALENDAR
VERSION:2.0
PRODID:-//Plone.org//NONSGML plone.app.event//EN
X-WR-TIMEZONE:Europe/Berlin
BEGIN:VEVENT
SUMMARY:Satan\, Sex und eine islamistische Zombie-Apokalypse: Religion und
  Politik im türkischen Comic
DTSTART;TZID=Europe/Berlin:20220615T201500
DTEND;TZID=Europe/Berlin:20220615T214500
DTSTAMP:20260425T235258Z
UID:050f7fff2c1b4362b867d58bf086e284@www.uni-marburg.de
ATTENDEE;CN="Dr. Pierre Hecker";ROLE=REQ-PARTICIPANT:Dr. Pierre Hecker
CREATED:20220310T094038Z
DESCRIPTION:https://www.uni-marburg.de/de/zir/aktuelles/termine-zir/satan-
 sex-und-eine-islamistische-zombie-apokalypse-religion-und-politik-im-tuerk
 ischen-comic\nStudium Generale: Religion und Politik
LAST-MODIFIED:20220322T130536Z
LOCATION:Vortragsraum der Universitätsbibliothek\, Deutschhausstr. 9\, 35
 037 Marburg
URL:https://www.uni-marburg.de/de/zir/aktuelles/termine-zir/satan-sex-und-
 eine-islamistische-zombie-apokalypse-religion-und-politik-im-tuerkischen-c
 omic
END:VEVENT
BEGIN:VTIMEZONE
TZID:Europe/Berlin
X-LIC-LOCATION:Europe/Berlin
BEGIN:DAYLIGHT
DTSTART:20220327T030000
TZNAME:CEST
TZOFFSETFROM:+0100
TZOFFSETTO:+0200
END:DAYLIGHT
END:VTIMEZONE
END:VCALENDAR
