BEGIN:VCALENDAR
VERSION:2.0
PRODID:-//Plone.org//NONSGML plone.app.event//EN
X-WR-TIMEZONE:Europe/Berlin
BEGIN:VEVENT
SUMMARY:Virtuelle DGWF-Jahrestagung 2021
DTSTART;TZID=Europe/Berlin:20210916T093000
DTEND;TZID=Europe/Berlin:20210917T154500
DTSTAMP:20260425T162903Z
UID:fb4e90196d864ca6bd5b8d80a9ac6318@www.uni-marburg.de
CREATED:20210907T082349Z
DESCRIPTION:https://www.uni-marburg.de/de/zww/aktuelles/termine/virtuelle-
 dgwf-jahrestagung-2021\n„Kooperativ\, vernetzt – agil? Zusammenarbeit 
 in der wissenschaftlichen Weiterbildung“ lautet das diesjährige Thema d
 er DGWF-Jahrestagung. Erwartet werden Vorträge\, Workshops und Präsentat
 ionen\, die sich mit den verschiedenen Formen wie auch Herausforderungen d
 er Zusammenarbeit befassen – dies auf den Ebenen der kooperativen Angebo
 tsentwicklung\, der vernetzten Entwicklung von digitalen Lern- und Lehrmat
 erialien\, der gemeinsamen Mittelakquisition und strategischen Kooperation
  bis hin zu Formen der kooperationsbasierten Steuerung wissenschaftlicher 
 Weiterbildung. Dabei sind Vernetzung und Zusammenarbeit nicht nur das Them
 a\, sondern auch der Leitgedanke für die Gestaltung der Tagung\, die pand
 emiebedingt online stattfinden wird.
LAST-MODIFIED:20210907T082610Z
LOCATION:Online-Veranstaltung
URL:https://www.uni-marburg.de/de/zww/aktuelles/termine/virtuelle-dgwf-jah
 restagung-2021
END:VEVENT
BEGIN:VTIMEZONE
TZID:Europe/Berlin
X-LIC-LOCATION:Europe/Berlin
BEGIN:DAYLIGHT
DTSTART:20210328T030000
TZNAME:CEST
TZOFFSETFROM:+0100
TZOFFSETTO:+0200
END:DAYLIGHT
END:VTIMEZONE
END:VCALENDAR
