BEGIN:VCALENDAR
VERSION:2.0
PRODID:-//Plone.org//NONSGML plone.app.event//EN
X-WR-TIMEZONE:Europe/Berlin
BEGIN:VEVENT
SUMMARY:Dr Christiane Staiger: "Die Pharmazie in der Unterhaltungsmusik 
 – Beispiele aus einer pharmazeutischen Playlist"
DTSTART;TZID=Europe/Berlin:20250115T181500
DTEND;TZID=Europe/Berlin:20250115T194500
DTSTAMP:20260420T111352Z
UID:6f1e3fc9c8464e62a2aa30da5ee5c893@www.uni-marburg.de
ATTENDEE;CN="Dr Christiane Staiger";ROLE=REQ-PARTICIPANT:Dr Christiane Sta
 iger
CATEGORIES:history of pharmacy,history of medicine,Institute of the Histor
 y of Pharmacy and Medicine,History of Science Colloquium
CREATED:20241008T131654Z
DESCRIPTION:https://www.uni-marburg.de/en/fb16/igphmmr/prfolder/events/202
 5-events/2025-01-15-lecture-muench\nHistory of Science Colloquium at Insti
 tute of the History of Pharmacy and Medicine
LAST-MODIFIED:20250604T125323Z
LOCATION:Lecture hall\, Roter Graben 10\, 35037 Marburg\, Germany
URL:https://www.uni-marburg.de/en/fb16/igphmmr/prfolder/events/2025-events
 /2025-01-15-lecture-muench
END:VEVENT
BEGIN:VTIMEZONE
TZID:Europe/Berlin
X-LIC-LOCATION:Europe/Berlin
BEGIN:STANDARD
DTSTART:20241027T020000
TZNAME:CET
TZOFFSETFROM:+0200
TZOFFSETTO:+0100
END:STANDARD
END:VTIMEZONE
END:VCALENDAR
