BEGIN:VCALENDAR
VERSION:2.0
PRODID:-//Plone.org//NONSGML plone.app.event//EN
X-WR-TIMEZONE:Europe/Berlin
BEGIN:VEVENT
SUMMARY:Prof Dr Karen Nolte and Dr Sara Doll: "Zugang gestalten – Heidel
 berger Projekt zum Umgang mit Human Remains in der Ausstellungs- und Lehrp
 raxis" and "Interdisziplinäre Provenienzrecherche mit neuen Techniken. Wi
 e der Schwarze Jonas zum Schinderhannes wurde"
DTSTART;TZID=Europe/Berlin:20250122T181500
DTEND;TZID=Europe/Berlin:20250122T194500
DTSTAMP:20260421T110655Z
UID:78cea2f203c241879c1a81a64e769c4e@www.uni-marburg.de
ATTENDEE;CN="Prof Dr Karen Nolte and Dr Sara Doll, both from University of
  Heidelberg";ROLE=REQ-PARTICIPANT:Prof Dr Karen Nolte and Dr Sara Doll, bo
 th from University of Heidelberg
CATEGORIES:history of pharmacy,history of medicine,Institute of the Histor
 y of Pharmacy and Medicine,History of Science Colloquium
CREATED:20241008T131654Z
DESCRIPTION:https://www.uni-marburg.de/en/fb16/igphmmr/prfolder/events/202
 5-events/2025-01-22-lecture-nolte-doll\nHistory of Science Colloquium at I
 nstitute of the History of Pharmacy and Medicine
LAST-MODIFIED:20250604T125321Z
LOCATION:Lecture hall\, Roter Graben 10\, 35037 Marburg\, Germany
URL:https://www.uni-marburg.de/en/fb16/igphmmr/prfolder/events/2025-events
 /2025-01-22-lecture-nolte-doll
END:VEVENT
BEGIN:VTIMEZONE
TZID:Europe/Berlin
X-LIC-LOCATION:Europe/Berlin
BEGIN:STANDARD
DTSTART:20241027T020000
TZNAME:CET
TZOFFSETFROM:+0200
TZOFFSETTO:+0100
END:STANDARD
END:VTIMEZONE
END:VCALENDAR
