BEGIN:VCALENDAR
VERSION:2.0
PRODID:-//Plone.org//NONSGML plone.app.event//EN
X-WR-TIMEZONE:Europe/Berlin
BEGIN:VEVENT
SUMMARY:Dr Manfred Fankhauser: "Die Wiederentdeckung von Cannabis in der M
 edizin"
DTSTART;TZID=Europe/Berlin:20250310T181500
DTEND;TZID=Europe/Berlin:20250310T194500
DTSTAMP:20260421T074201Z
UID:121f6156a9c04741b695442fc40de825@www.uni-marburg.de
ATTENDEE;CN="Dr Manfred Fankhauser, Bahnhof Apotheke Langnau AG";ROLE=REQ-
 PARTICIPANT:Dr Manfred Fankhauser, Bahnhof Apotheke Langnau AG
CATEGORIES:history of pharmacy,history of medicine,Institute of the Histor
 y of Pharmacy and Medicine,History of Science Colloquium
CREATED:20241008T131654Z
DESCRIPTION:https://www.uni-marburg.de/en/fb16/igphmmr/prfolder/events/202
 5-events/2025-03-10-lecture-fankhauser\nLecture as part of the lecture ser
 ies by the regional group Hesse\, sub-group Marburg of the DPhG (Deutsche 
 Pharmazeutische Gesellschaft)
LAST-MODIFIED:20250604T125322Z
LOCATION:Great lecture hall\, Marbacher Weg 10\, 35037 Marburg\, Germany
URL:https://www.uni-marburg.de/en/fb16/igphmmr/prfolder/events/2025-events
 /2025-03-10-lecture-fankhauser
END:VEVENT
BEGIN:VTIMEZONE
TZID:Europe/Berlin
X-LIC-LOCATION:Europe/Berlin
BEGIN:STANDARD
DTSTART:20241027T020000
TZNAME:CET
TZOFFSETFROM:+0200
TZOFFSETTO:+0100
END:STANDARD
END:VTIMEZONE
END:VCALENDAR
