BEGIN:VCALENDAR
VERSION:2.0
PRODID:-//Plone.org//NONSGML plone.app.event//EN
X-WR-TIMEZONE:Europe/Berlin
BEGIN:VEVENT
SUMMARY:Anniversary symposium: 60 years of Roter Graben 10
DTSTART;TZID=Europe/Berlin:20251012T100000
DTEND;TZID=Europe/Berlin:20251012T140000
DTSTAMP:20260425T015842Z
UID:d42ffcd8b8dd4f259f9218361ff3e9e7@www.uni-marburg.de
ATTENDEE;CN="Prof. Dr. Tanja Pommerening, Prof. Dr. Maike Rotzoll, Dr Ulri
 ke Enke u.A.";ROLE=REQ-PARTICIPANT:Prof. Dr. Tanja Pommerening, Prof. Dr. 
 Maike Rotzoll, Dr Ulrike Enke u.A.
CATEGORIES:()
CREATED:20251107T112421Z
DESCRIPTION:https://www.uni-marburg.de/en/fb16/igphmmr/prfolder/events/202
 5-events/anniversary-symposium-60-years-of-roter-graben-10\n60th anniversa
 ry of the Institute for the History of Pharmacy and Medicine
LAST-MODIFIED:20251107T112757Z
LOCATION:Hörsaal\, Roter Graben 10\, 35037 Marburg
URL:https://www.uni-marburg.de/en/fb16/igphmmr/prfolder/events/2025-events
 /anniversary-symposium-60-years-of-roter-graben-10
END:VEVENT
BEGIN:VTIMEZONE
TZID:Europe/Berlin
X-LIC-LOCATION:Europe/Berlin
BEGIN:DAYLIGHT
DTSTART:20250330T030000
TZNAME:CEST
TZOFFSETFROM:+0100
TZOFFSETTO:+0200
END:DAYLIGHT
END:VTIMEZONE
END:VCALENDAR
