BEGIN:VCALENDAR
VERSION:2.0
PRODID:-//Plone.org//NONSGML plone.app.event//EN
X-WR-TIMEZONE:Europe/Berlin
BEGIN:VEVENT
SUMMARY:Dr. Marion Baschin: Arnica und Co. Selbstmedikation mit homöopath
 ischen Arzneimitteln in historischer Perspektive
DTSTART;TZID=Europe/Berlin:20251217T181500
DTEND;TZID=Europe/Berlin:20251217T194500
DTSTAMP:20260426T011019Z
UID:0ab2a3822da744c1a0844dc05d3c80d9@www.uni-marburg.de
ATTENDEE;CN="Dr. Marion Baschin";ROLE=REQ-PARTICIPANT:Dr. Marion Baschin
CREATED:20251107T114738Z
DESCRIPTION:https://www.uni-marburg.de/en/fb16/igphmmr/prfolder/events/202
 5-events/dr-marion-baschin-arnica-und-co-selbstmedikation-mit-homoopathisc
 hen-arzneimitteln-in-historischer-perspektive\nLecture as part of the Hist
 ory of Science Colloquium at the Institute for the History of Pharmacy and
  Medicine
LAST-MODIFIED:20251107T114745Z
LOCATION:Hörsaal\, Roter Graben 10\, 35037 Marburg
URL:https://www.uni-marburg.de/en/fb16/igphmmr/prfolder/events/2025-events
 /dr-marion-baschin-arnica-und-co-selbstmedikation-mit-homoopathischen-arzn
 eimitteln-in-historischer-perspektive
END:VEVENT
BEGIN:VTIMEZONE
TZID:Europe/Berlin
X-LIC-LOCATION:Europe/Berlin
BEGIN:STANDARD
DTSTART:20251026T020000
TZNAME:CET
TZOFFSETFROM:+0200
TZOFFSETTO:+0100
END:STANDARD
END:VTIMEZONE
END:VCALENDAR
