BEGIN:VCALENDAR
VERSION:2.0
PRODID:-//Plone.org//NONSGML plone.app.event//EN
X-WR-TIMEZONE:Europe/Berlin
BEGIN:VEVENT
SUMMARY:Prof. Dr. Norbert Donner-Banzhoff: "Erklären und Verstehen bei Ka
 rl Jaspers: Nützlich auch jenseits der Psychiatrie?"
DTSTART;TZID=Europe/Berlin:20250716T181500
DTEND;TZID=Europe/Berlin:20250716T194500
DTSTAMP:20260425T215600Z
UID:21a4d86f18d145f3bdb8d519bf71557e@www.uni-marburg.de
ATTENDEE;CN="Prof. Dr. Norbert Donner-Banzhoff";ROLE=REQ-PARTICIPANT:Prof.
  Dr. Norbert Donner-Banzhoff
CREATED:20250604T134024Z
DESCRIPTION:https://www.uni-marburg.de/en/fb16/igphmmr/prfolder/events/202
 5-events/prof-dr-norbert-donner-banzhoff-erklaren-und-verstehen-bei-karl-j
 aspers-nutzlich-auch-jenseits-der-psychiatrie\nLecture as part of the Hist
 ory of Science Colloquium at the Institute for the History of Pharmacy and
  Medicine
LAST-MODIFIED:20250604T134047Z
LOCATION:Lecture hall\, Roter Graben 10\, 35037 Marburg\, Germany
URL:https://www.uni-marburg.de/en/fb16/igphmmr/prfolder/events/2025-events
 /prof-dr-norbert-donner-banzhoff-erklaren-und-verstehen-bei-karl-jaspers-n
 utzlich-auch-jenseits-der-psychiatrie
END:VEVENT
BEGIN:VTIMEZONE
TZID:Europe/Berlin
X-LIC-LOCATION:Europe/Berlin
BEGIN:DAYLIGHT
DTSTART:20250330T030000
TZNAME:CEST
TZOFFSETFROM:+0100
TZOFFSETTO:+0200
END:DAYLIGHT
END:VTIMEZONE
END:VCALENDAR
