BEGIN:VCALENDAR
VERSION:2.0
PRODID:-//Plone.org//NONSGML plone.app.event//EN
X-WR-TIMEZONE:Europe/Berlin
BEGIN:VEVENT
SUMMARY:Sophia König: Das Hebammenwesen 1918-1945 am Beispiel Leipzigs un
 d Sachsens
DTSTART;TZID=Europe/Berlin:20251015T181500
DTEND;TZID=Europe/Berlin:20251015T194500
DTSTAMP:20260425T141923Z
UID:bee12e804e4742f1a4b3c2283fb4d855@www.uni-marburg.de
ATTENDEE;CN="Sophia König";ROLE=REQ-PARTICIPANT:Sophia König
CATEGORIES:()
CREATED:20251107T113243Z
DESCRIPTION:https://www.uni-marburg.de/en/fb16/igphmmr/prfolder/events/202
 5-events/sophia-konig-das-hebammenwesen-1918-1945-am-beispiel-leipzigs-und
 -sachsens\nLecture as part of the History of Science Colloquium at the Ins
 titute for the History of Pharmacy and Medicine
LAST-MODIFIED:20251107T113712Z
LOCATION:Online
URL:https://www.uni-marburg.de/en/fb16/igphmmr/prfolder/events/2025-events
 /sophia-konig-das-hebammenwesen-1918-1945-am-beispiel-leipzigs-und-sachsen
 s
END:VEVENT
BEGIN:VTIMEZONE
TZID:Europe/Berlin
X-LIC-LOCATION:Europe/Berlin
BEGIN:DAYLIGHT
DTSTART:20250330T030000
TZNAME:CEST
TZOFFSETFROM:+0100
TZOFFSETTO:+0200
END:DAYLIGHT
END:VTIMEZONE
END:VCALENDAR
